BEGIN:VCALENDAR
VERSION:2.0
PRODID:icalendar-ruby
CALSCALE:GREGORIAN
METHOD:PUBLISH
BEGIN:VEVENT
DTSTAMP:20260421T090714Z
UID:5-399821@edgewaterunited.tithelysetup5.com
DTSTART:20261011T140000Z
DTEND:20261011T150000Z
CLASS:PUBLIC
CREATED:20260420T212301
DESCRIPTION:Sunday Worship
LAST-MODIFIED:20260420T212301
LOCATION:
SUMMARY:Sunday Worship
URL;VALUE=URI:https://edgewaterunitedmethodist.org/events/sunday-worship/20
 26-10-11
END:VEVENT
END:VCALENDAR
