BEGIN:VCALENDAR
VERSION:2.0
PRODID:icalendar-ruby
CALSCALE:GREGORIAN
METHOD:PUBLISH
BEGIN:VEVENT
DTSTAMP:20260421T131134Z
UID:5-400085@edgewaterunited.tithelysetup5.com
DTSTART:20261101T150000Z
DTEND:20261101T160000Z
CLASS:PUBLIC
CREATED:20260421T083038
DESCRIPTION:Sunday Worship
LAST-MODIFIED:20260421T083038
LOCATION:
SUMMARY:Sunday Worship
URL;VALUE=URI:https://edgewaterunitedmethodist.org/events/sunday-worship/20
 26-11-01
END:VEVENT
END:VCALENDAR
